BEGIN:VCALENDAR
VERSION:2.0
PRODID:-//Mamafox Books - ECPv6.15.17.1//NONSGML v1.0//EN
CALSCALE:GREGORIAN
METHOD:PUBLISH
X-ORIGINAL-URL:https://mamafoxbooks.com
X-WR-CALDESC:Events for Mamafox Books
REFRESH-INTERVAL;VALUE=DURATION:PT1H
X-Robots-Tag:noindex
X-PUBLISHED-TTL:PT1H
BEGIN:VTIMEZONE
TZID:UTC
BEGIN:STANDARD
TZOFFSETFROM:+0000
TZOFFSETTO:+0000
TZNAME:UTC
DTSTART:20170101T000000
END:STANDARD
END:VTIMEZONE
BEGIN:VEVENT
DTSTART;TZID=UTC:20180306T100000
DTEND;TZID=UTC:20180306T120000
DTSTAMP:20260424T210006
CREATED:20180117T223315Z
LAST-MODIFIED:20180117T223315Z
UID:1237-1520330400-1520337600@mamafoxbooks.com
SUMMARY:Preschool Story Time at Red Mountain Library
DESCRIPTION:
URL:https://mamafoxbooks.com/event/preschool-story-time-at-red-mountain-library/
LOCATION:AZ
END:VEVENT
END:VCALENDAR