BEGIN:VCALENDAR
VERSION:2.0
PRODID:-//Mamafox Books - ECPv6.15.17.1//NONSGML v1.0//EN
CALSCALE:GREGORIAN
METHOD:PUBLISH
X-ORIGINAL-URL:https://mamafoxbooks.com
X-WR-CALDESC:Events for Mamafox Books
REFRESH-INTERVAL;VALUE=DURATION:PT1H
X-Robots-Tag:noindex
X-PUBLISHED-TTL:PT1H
BEGIN:VTIMEZONE
TZID:UTC
BEGIN:STANDARD
TZOFFSETFROM:+0000
TZOFFSETTO:+0000
TZNAME:UTC
DTSTART:20170101T000000
END:STANDARD
END:VTIMEZONE
BEGIN:VEVENT
DTSTART;TZID=UTC:20180316T133000
DTEND;TZID=UTC:20180316T143000
DTSTAMP:20260424T210005
CREATED:20180119T110409Z
LAST-MODIFIED:20180119T120753Z
UID:1251-1521207000-1521210600@mamafoxbooks.com
SUMMARY:ASEDS First Grade Visit
DESCRIPTION:“Starry Gets Lost” Coming Soon!
URL:https://mamafoxbooks.com/event/aseds-first-grade-visit/
LOCATION:AZ
END:VEVENT
END:VCALENDAR