BEGIN:VCALENDAR
VERSION:2.0
PRODID:-//Mamafox Books - ECPv6.15.17.1//NONSGML v1.0//EN
CALSCALE:GREGORIAN
METHOD:PUBLISH
X-WR-CALNAME:Mamafox Books
X-ORIGINAL-URL:https://mamafoxbooks.com
X-WR-CALDESC:Events for Mamafox Books
REFRESH-INTERVAL;VALUE=DURATION:PT1H
X-Robots-Tag:noindex
X-PUBLISHED-TTL:PT1H
BEGIN:VTIMEZONE
TZID:UTC
BEGIN:STANDARD
TZOFFSETFROM:+0000
TZOFFSETTO:+0000
TZNAME:UTC
DTSTART:20170101T000000
END:STANDARD
END:VTIMEZONE
BEGIN:VEVENT
DTSTART;TZID=UTC:20180317T110000
DTEND;TZID=UTC:20180317T120000
DTSTAMP:20260424T205819
CREATED:20180122T085437Z
LAST-MODIFIED:20180122T094704Z
UID:1263-1521284400-1521288000@mamafoxbooks.com
SUMMARY:Story Time & Book Signing at La Encantada\, Tucson
DESCRIPTION:
URL:https://mamafoxbooks.com/event/story-time-book-signing-at-mildred-dildred-tucson/
LOCATION:Mildred & Dildred Toy Store\, 2905 E. Skyline Dr.\, Tucson\, AZ\, 85718
END:VEVENT
END:VCALENDAR