BEGIN:VCALENDAR
VERSION:2.0
PRODID:-//Mamafox Books - ECPv6.15.17.1//NONSGML v1.0//EN
CALSCALE:GREGORIAN
METHOD:PUBLISH
X-WR-CALNAME:Mamafox Books
X-ORIGINAL-URL:https://mamafoxbooks.com
X-WR-CALDESC:Events for Mamafox Books
REFRESH-INTERVAL;VALUE=DURATION:PT1H
X-Robots-Tag:noindex
X-PUBLISHED-TTL:PT1H
BEGIN:VTIMEZONE
TZID:UTC
BEGIN:STANDARD
TZOFFSETFROM:+0000
TZOFFSETTO:+0000
TZNAME:UTC
DTSTART:20170101T000000
END:STANDARD
END:VTIMEZONE
BEGIN:VEVENT
DTSTART;TZID=UTC:20180804T130000
DTEND;TZID=UTC:20180804T140000
DTSTAMP:20260424T132102
CREATED:20180725T112242Z
LAST-MODIFIED:20180801T032525Z
UID:1660-1533387600-1533391200@mamafoxbooks.com
SUMMARY:Story Time at Bookmans Phoenix
DESCRIPTION:
URL:https://mamafoxbooks.com/event/story-time-at-bookmans/
LOCATION:Bookmans Phoenix\, United States
END:VEVENT
END:VCALENDAR