BEGIN:VCALENDAR
VERSION:2.0
PRODID:-//Mamafox Books - ECPv6.15.17.1//NONSGML v1.0//EN
CALSCALE:GREGORIAN
METHOD:PUBLISH
X-WR-CALNAME:Mamafox Books
X-ORIGINAL-URL:https://mamafoxbooks.com
X-WR-CALDESC:Events for Mamafox Books
REFRESH-INTERVAL;VALUE=DURATION:PT1H
X-Robots-Tag:noindex
X-PUBLISHED-TTL:PT1H
BEGIN:VTIMEZONE
TZID:UTC
BEGIN:STANDARD
TZOFFSETFROM:+0000
TZOFFSETTO:+0000
TZNAME:UTC
DTSTART:20170101T000000
END:STANDARD
END:VTIMEZONE
BEGIN:VEVENT
DTSTART;TZID=UTC:20180805T090000
DTEND;TZID=UTC:20180805T120000
DTSTAMP:20260424T132101
CREATED:20180720T035134Z
LAST-MODIFIED:20180720T035731Z
UID:1649-1533459600-1533470400@mamafoxbooks.com
SUMMARY:The Big Latch On
DESCRIPTION:I will be there to read and sign copies of “Babies Nurse ~ Así se alimentan los bebés!”
URL:https://mamafoxbooks.com/event/the-big-latch-on/
LOCATION:St. Joseph’s  Hospital\, 350 W. Thomas Rd.\, Phoenix\, AZ\, 85013\, United States
END:VEVENT
END:VCALENDAR