BEGIN:VCALENDAR
VERSION:2.0
PRODID:-//Mamafox Books - ECPv6.15.17.1//NONSGML v1.0//EN
CALSCALE:GREGORIAN
METHOD:PUBLISH
X-WR-CALNAME:Mamafox Books
X-ORIGINAL-URL:https://mamafoxbooks.com
X-WR-CALDESC:Events for Mamafox Books
REFRESH-INTERVAL;VALUE=DURATION:PT1H
X-Robots-Tag:noindex
X-PUBLISHED-TTL:PT1H
BEGIN:VTIMEZONE
TZID:UTC
BEGIN:STANDARD
TZOFFSETFROM:+0000
TZOFFSETTO:+0000
TZNAME:UTC
DTSTART:20170101T000000
END:STANDARD
END:VTIMEZONE
BEGIN:VEVENT
DTSTART;TZID=UTC:20180918T100000
DTEND;TZID=UTC:20180918T143000
DTSTAMP:20260424T114428
CREATED:20180720T040026Z
LAST-MODIFIED:20180725T112442Z
UID:1656-1537264800-1537281000@mamafoxbooks.com
SUMMARY:Toddler & Baby Story Times at Babymoon Inn
DESCRIPTION:Join us for story times at 10:00 am and 1:00 pm
URL:https://mamafoxbooks.com/event/storytimes-at-babymoon-inn/
LOCATION:Babymoon Inn Birth Center\, 215 E. Lexington Ave.\, Phoenix\, AZ\, 85012
END:VEVENT
END:VCALENDAR