BEGIN:VCALENDAR
VERSION:2.0
PRODID:-//Mamafox Books - ECPv6.15.17.1//NONSGML v1.0//EN
CALSCALE:GREGORIAN
METHOD:PUBLISH
X-ORIGINAL-URL:https://mamafoxbooks.com
X-WR-CALDESC:Events for Mamafox Books
REFRESH-INTERVAL;VALUE=DURATION:PT1H
X-Robots-Tag:noindex
X-PUBLISHED-TTL:PT1H
BEGIN:VTIMEZONE
TZID:UTC
BEGIN:STANDARD
TZOFFSETFROM:+0000
TZOFFSETTO:+0000
TZNAME:UTC
DTSTART:20170101T000000
END:STANDARD
END:VTIMEZONE
BEGIN:VEVENT
DTSTART;TZID=UTC:20181115T170000
DTEND;TZID=UTC:20181115T210000
DTSTAMP:20260424T083142
CREATED:20181011T231502Z
LAST-MODIFIED:20181031T190105Z
UID:1683-1542301200-1542315600@mamafoxbooks.com
SUMMARY:Crossroads Preschool Moms' Night Out
DESCRIPTION:Come join the fun with local vendors\, food trucks\, music\, and more! Enter to win a free signed copy of Up Up Up!\nTickets available at www.crossroadspsk.com
URL:https://mamafoxbooks.com/event/crossroads-preschool-moms-night-out/
LOCATION:Crossroads Preschool\, 7901 N Central Ave\, Phoenix\, AZ\, 85020\, United States
END:VEVENT
END:VCALENDAR