BEGIN:VCALENDAR
VERSION:2.0
PRODID:-//Mamafox Books - ECPv6.15.17.1//NONSGML v1.0//EN
CALSCALE:GREGORIAN
METHOD:PUBLISH
X-ORIGINAL-URL:https://mamafoxbooks.com
X-WR-CALDESC:Events for Mamafox Books
REFRESH-INTERVAL;VALUE=DURATION:PT1H
X-Robots-Tag:noindex
X-PUBLISHED-TTL:PT1H
BEGIN:VTIMEZONE
TZID:America/Phoenix
BEGIN:STANDARD
TZOFFSETFROM:-0700
TZOFFSETTO:-0700
TZNAME:MST
DTSTART:20170101T000000
END:STANDARD
END:VTIMEZONE
BEGIN:VEVENT
DTSTART;VALUE=DATE:20181117
DTEND;VALUE=DATE:20181118
DTSTAMP:20260424T085631
CREATED:20181031T195457Z
LAST-MODIFIED:20181031T195457Z
UID:1715-1542412800-1542499199@mamafoxbooks.com
SUMMARY:"Storytime Saturdays" on Youtube
DESCRIPTION:Discover a new storytime video with Author Phoebe Fox every Saturday on the Mamafox Books Youtube Channel! Don’t forget to subscribe\, and please leave comments and requests for your favorite stories!
URL:https://mamafoxbooks.com/event/storytime-saturdays-on-youtube-4/
LOCATION:Mamafox Books Youtube Channel
END:VEVENT
END:VCALENDAR