BEGIN:VCALENDAR
VERSION:2.0
PRODID:-//Mamafox Books - ECPv6.15.17.1//NONSGML v1.0//EN
CALSCALE:GREGORIAN
METHOD:PUBLISH
X-ORIGINAL-URL:https://mamafoxbooks.com
X-WR-CALDESC:Events for Mamafox Books
REFRESH-INTERVAL;VALUE=DURATION:PT1H
X-Robots-Tag:noindex
X-PUBLISHED-TTL:PT1H
BEGIN:VTIMEZONE
TZID:America/Phoenix
BEGIN:STANDARD
TZOFFSETFROM:-0700
TZOFFSETTO:-0700
TZNAME:MST
DTSTART:20180101T000000
END:STANDARD
END:VTIMEZONE
BEGIN:VEVENT
DTSTART;VALUE=DATE:20190831
DTEND;VALUE=DATE:20190901
DTSTAMP:20260423T164614
CREATED:20190914T204913Z
LAST-MODIFIED:20190914T204913Z
UID:1883-1567209600-1567295999@mamafoxbooks.com
SUMMARY:"Storytime Saturdays" on YouTube ~ New Episode
DESCRIPTION:Discover a new story with Author Phoebe Fox every Saturday on the Mamafox Books’ Youtube Channel! Don’t forget to subscribe\, and please leave comments and requests for your favorite stories!
URL:https://mamafoxbooks.com/event/storytime-saturdays-on-youtube-new-episode-8/
LOCATION:AZ
END:VEVENT
END:VCALENDAR