BEGIN:VCALENDAR
VERSION:2.0
PRODID:-//Mamafox Books - ECPv6.15.17.1//NONSGML v1.0//EN
CALSCALE:GREGORIAN
METHOD:PUBLISH
X-ORIGINAL-URL:https://mamafoxbooks.com
X-WR-CALDESC:Events for Mamafox Books
REFRESH-INTERVAL;VALUE=DURATION:PT1H
X-Robots-Tag:noindex
X-PUBLISHED-TTL:PT1H
BEGIN:VTIMEZONE
TZID:America/Phoenix
BEGIN:STANDARD
TZOFFSETFROM:-0700
TZOFFSETTO:-0700
TZNAME:MST
DTSTART:20180101T000000
END:STANDARD
END:VTIMEZONE
BEGIN:VEVENT
DTSTART;TZID=America/Phoenix:20190920T103000
DTEND;TZID=America/Phoenix:20190920T233000
DTSTAMP:20260423T163539
CREATED:20190916T162842Z
LAST-MODIFIED:20190916T162842Z
UID:1919-1568975400-1569022200@mamafoxbooks.com
SUMMARY:All Saints' Episcopal Day School Kindergarten Visit
DESCRIPTION:
URL:https://mamafoxbooks.com/event/all-saints-episcopal-day-school-kindergarten-visit/
LOCATION:AZ
END:VEVENT
END:VCALENDAR