BEGIN:VCALENDAR
VERSION:2.0
PRODID:-//Mamafox Books - ECPv6.15.17.1//NONSGML v1.0//EN
CALSCALE:GREGORIAN
METHOD:PUBLISH
X-WR-CALNAME:Mamafox Books
X-ORIGINAL-URL:https://mamafoxbooks.com
X-WR-CALDESC:Events for Mamafox Books
REFRESH-INTERVAL;VALUE=DURATION:PT1H
X-Robots-Tag:noindex
X-PUBLISHED-TTL:PT1H
BEGIN:VTIMEZONE
TZID:America/Phoenix
BEGIN:STANDARD
TZOFFSETFROM:-0700
TZOFFSETTO:-0700
TZNAME:MST
DTSTART:20180101T000000
END:STANDARD
END:VTIMEZONE
BEGIN:VEVENT
DTSTART;TZID=America/Phoenix:20190924T090000
DTEND;TZID=America/Phoenix:20190924T100000
DTSTAMP:20260423T165041
CREATED:20190916T162923Z
LAST-MODIFIED:20190916T162923Z
UID:1921-1569315600-1569319200@mamafoxbooks.com
SUMMARY:All Saints' Episcopal Day School Career Week
DESCRIPTION:
URL:https://mamafoxbooks.com/event/all-saints-episcopal-day-school-career-week/
LOCATION:AZ
END:VEVENT
END:VCALENDAR