BEGIN:VCALENDAR
VERSION:2.0
PRODID:-//Mamafox Books - ECPv6.15.17.1//NONSGML v1.0//EN
CALSCALE:GREGORIAN
METHOD:PUBLISH
X-WR-CALNAME:Mamafox Books
X-ORIGINAL-URL:https://mamafoxbooks.com
X-WR-CALDESC:Events for Mamafox Books
REFRESH-INTERVAL;VALUE=DURATION:PT1H
X-Robots-Tag:noindex
X-PUBLISHED-TTL:PT1H
BEGIN:VTIMEZONE
TZID:America/Phoenix
BEGIN:STANDARD
TZOFFSETFROM:-0700
TZOFFSETTO:-0700
TZNAME:MST
DTSTART:20190101T000000
END:STANDARD
END:VTIMEZONE
BEGIN:VEVENT
DTSTART;TZID=America/Phoenix:20200822T110000
DTEND;TZID=America/Phoenix:20200822T113000
DTSTAMP:20260422T232632
CREATED:20200720T203009Z
LAST-MODIFIED:20200721T143518Z
UID:2283-1598094000-1598095800@mamafoxbooks.com
SUMMARY:Babies Bond Facebook Live Book Launch!
DESCRIPTION:Join children’s author Phoebe Fox and illustrator Jim Fox as they celebrate the release of their new book\, Babies Bond! Phoebe will read from the book. Her father-in-law\, Jim\, will talk about how he created the original artwork. And of course\, there will be Q&A! Every one who replies “yes” to the event will be entered in a drawing to win a Mamafox Books tote bag! First person to log-on will be the recipient of a FREE hardcover copy of the book! Everyone who orders a copy of Babies Bond on August 22 will receive a limited-edition bookmark. Can’t wait to “see” you on Aug 22 at 11 AM (Arizona time)!
URL:https://mamafoxbooks.com/event/facebook-live-book-launch/
LOCATION:AZ
END:VEVENT
END:VCALENDAR