BEGIN:VCALENDAR
VERSION:2.0
PRODID:-//Mamafox Books - ECPv6.15.17.1//NONSGML v1.0//EN
CALSCALE:GREGORIAN
METHOD:PUBLISH
X-ORIGINAL-URL:https://mamafoxbooks.com
X-WR-CALDESC:Events for Mamafox Books
REFRESH-INTERVAL;VALUE=DURATION:PT1H
X-Robots-Tag:noindex
X-PUBLISHED-TTL:PT1H
BEGIN:VTIMEZONE
TZID:America/Phoenix
BEGIN:STANDARD
TZOFFSETFROM:-0700
TZOFFSETTO:-0700
TZNAME:MST
DTSTART:20200101T000000
END:STANDARD
END:VTIMEZONE
BEGIN:VEVENT
DTSTART;TZID=America/Phoenix:20210820T180000
DTEND;TZID=America/Phoenix:20210820T193000
DTSTAMP:20260422T051412
CREATED:20210812T205323Z
LAST-MODIFIED:20210812T205323Z
UID:2626-1629482400-1629487800@mamafoxbooks.com
SUMMARY:Storytime and Book Signing at Luna Studio
DESCRIPTION:
URL:https://mamafoxbooks.com/event/storytime-and-book-signing-at-luna-studio/
LOCATION:AZ
END:VEVENT
END:VCALENDAR