BEGIN:VCALENDAR
VERSION:2.0
PRODID:-//Mamafox Books - ECPv6.15.17.1//NONSGML v1.0//EN
CALSCALE:GREGORIAN
METHOD:PUBLISH
X-WR-CALNAME:Mamafox Books
X-ORIGINAL-URL:https://mamafoxbooks.com
X-WR-CALDESC:Events for Mamafox Books
REFRESH-INTERVAL;VALUE=DURATION:PT1H
X-Robots-Tag:noindex
X-PUBLISHED-TTL:PT1H
BEGIN:VTIMEZONE
TZID:America/Phoenix
BEGIN:STANDARD
TZOFFSETFROM:-0700
TZOFFSETTO:-0700
TZNAME:MST
DTSTART:20200101T000000
END:STANDARD
END:VTIMEZONE
BEGIN:VEVENT
DTSTART;TZID=America/Phoenix:20211117T100000
DTEND;TZID=America/Phoenix:20211117T170000
DTSTAMP:20260422T003459
CREATED:20211110T185530Z
LAST-MODIFIED:20211110T185530Z
UID:2698-1637143200-1637168400@mamafoxbooks.com
SUMMARY:Fountain Hills Art on the Avenue
DESCRIPTION:
URL:https://mamafoxbooks.com/event/fountain-hills-art-on-the-avenue/
LOCATION:Fountain Hills Avenue of the Fountains\, AZ
END:VEVENT
END:VCALENDAR