BEGIN:VCALENDAR
VERSION:2.0
PRODID:-//Mamafox Books - ECPv6.15.17.1//NONSGML v1.0//EN
CALSCALE:GREGORIAN
METHOD:PUBLISH
X-WR-CALNAME:Mamafox Books
X-ORIGINAL-URL:https://mamafoxbooks.com
X-WR-CALDESC:Events for Mamafox Books
REFRESH-INTERVAL;VALUE=DURATION:PT1H
X-Robots-Tag:noindex
X-PUBLISHED-TTL:PT1H
BEGIN:VTIMEZONE
TZID:America/Phoenix
BEGIN:STANDARD
TZOFFSETFROM:-0700
TZOFFSETTO:-0700
TZNAME:MST
DTSTART:20200101T000000
END:STANDARD
END:VTIMEZONE
BEGIN:VEVENT
DTSTART;TZID=America/Phoenix:20211126T100000
DTEND;TZID=America/Phoenix:20211128T160000
DTSTAMP:20260422T003458
CREATED:20211025T191326Z
LAST-MODIFIED:20211025T191326Z
UID:2689-1637920800-1638115200@mamafoxbooks.com
SUMMARY:Briar Patch Boutique
DESCRIPTION:
URL:https://mamafoxbooks.com/event/briar-patch-boutique/
LOCATION:Horizon High School\, 5601 E Greenway Rd\, Scottsdale\, AZ\, 85254\, United States
END:VEVENT
END:VCALENDAR