BEGIN:VCALENDAR
VERSION:2.0
PRODID:-//Mamafox Books - ECPv6.15.17.1//NONSGML v1.0//EN
CALSCALE:GREGORIAN
METHOD:PUBLISH
X-WR-CALNAME:Mamafox Books
X-ORIGINAL-URL:https://mamafoxbooks.com
X-WR-CALDESC:Events for Mamafox Books
REFRESH-INTERVAL;VALUE=DURATION:PT1H
X-Robots-Tag:noindex
X-PUBLISHED-TTL:PT1H
BEGIN:VTIMEZONE
TZID:America/Phoenix
BEGIN:STANDARD
TZOFFSETFROM:-0700
TZOFFSETTO:-0700
TZNAME:MST
DTSTART:20210101T000000
END:STANDARD
END:VTIMEZONE
BEGIN:VEVENT
DTSTART;TZID=America/Phoenix:20220910T120000
DTEND;TZID=America/Phoenix:20220910T160000
DTSTAMP:20260421T090124
CREATED:20220828T043825Z
LAST-MODIFIED:20220828T043825Z
UID:2857-1662811200-1662825600@mamafoxbooks.com
SUMMARY:Book Signing and Storytime at Barnes & Noble
DESCRIPTION:Free Storytime with the author and her puppets\, Starry the Sheep and Luna the Goat! Phoebe Fox will be sharing her three Starry the Sheep books – Starry’s Haircut\, Starry Gets Lost\, and Starry’s New Friend. Come join Starry on all of her adventures! Books will be available for purchase and signed by the author.
URL:https://mamafoxbooks.com/event/book-signing-and-storytime-at-barnes-noble/
LOCATION:Barnes & Noble at Desert Ridge Marketplace\, 21001 N Tatum Blvd\, Phoenix\, AZ\, 85050\, United States
END:VEVENT
END:VCALENDAR