BEGIN:VCALENDAR
VERSION:2.0
PRODID:-//Mamafox Books - ECPv6.15.17.1//NONSGML v1.0//EN
CALSCALE:GREGORIAN
METHOD:PUBLISH
X-WR-CALNAME:Mamafox Books
X-ORIGINAL-URL:https://mamafoxbooks.com
X-WR-CALDESC:Events for Mamafox Books
REFRESH-INTERVAL;VALUE=DURATION:PT1H
X-Robots-Tag:noindex
X-PUBLISHED-TTL:PT1H
BEGIN:VTIMEZONE
TZID:America/Phoenix
BEGIN:STANDARD
TZOFFSETFROM:-0700
TZOFFSETTO:-0700
TZNAME:MST
DTSTART:20210101T000000
END:STANDARD
END:VTIMEZONE
BEGIN:VEVENT
DTSTART;TZID=America/Phoenix:20221105T100000
DTEND;TZID=America/Phoenix:20221106T150000
DTSTAMP:20260421T060028
CREATED:20220828T045911Z
LAST-MODIFIED:20220828T045911Z
UID:2871-1667642400-1667746800@mamafoxbooks.com
SUMMARY:Storytime at the Made for Mama Market
DESCRIPTION:Calling all families with young children! For the first time\, Children’s Author Phoebe Fox will be hosting Storytime at the Made for Mama Market in Gilbert!
URL:https://mamafoxbooks.com/event/storytime-at-the-made-for-mama-market/
LOCATION:Gilbert Regional Park\, 3005 E Queen Creek Rd\, Gilbert\, AZ\, 85298\, United States
END:VEVENT
END:VCALENDAR