BEGIN:VCALENDAR
VERSION:2.0
PRODID:-//Mamafox Books - ECPv6.15.17.1//NONSGML v1.0//EN
CALSCALE:GREGORIAN
METHOD:PUBLISH
X-ORIGINAL-URL:https://mamafoxbooks.com
X-WR-CALDESC:Events for Mamafox Books
REFRESH-INTERVAL;VALUE=DURATION:PT1H
X-Robots-Tag:noindex
X-PUBLISHED-TTL:PT1H
BEGIN:VTIMEZONE
TZID:America/Phoenix
BEGIN:STANDARD
TZOFFSETFROM:-0700
TZOFFSETTO:-0700
TZNAME:MST
DTSTART:20220101T000000
END:STANDARD
END:VTIMEZONE
BEGIN:VEVENT
DTSTART;TZID=America/Phoenix:20230304T090000
DTEND;TZID=America/Phoenix:20230305T160000
DTSTAMP:20260420T233936
CREATED:20220828T051023Z
LAST-MODIFIED:20220828T051023Z
UID:2879-1677920400-1678032000@mamafoxbooks.com
SUMMARY:Tucson Festival of Books
DESCRIPTION:Join Children’s Author Phoebe Fox at the Tucson Festival of Books\, an outdoor festival for book-lovers\, hosted by the University of Arizona during its students’ spring break. “It’s Tucson’s annual gift to bookworms – a two-day bestseller for all ages.”
URL:https://mamafoxbooks.com/event/tucson-festival-of-books-5/
LOCATION:University of Arizona\, United States
END:VEVENT
END:VCALENDAR