BEGIN:VCALENDAR
VERSION:2.0
PRODID:-//Mamafox Books - ECPv6.15.17.1//NONSGML v1.0//EN
CALSCALE:GREGORIAN
METHOD:PUBLISH
X-ORIGINAL-URL:https://mamafoxbooks.com
X-WR-CALDESC:Events for Mamafox Books
REFRESH-INTERVAL;VALUE=DURATION:PT1H
X-Robots-Tag:noindex
X-PUBLISHED-TTL:PT1H
BEGIN:VTIMEZONE
TZID:America/Phoenix
BEGIN:STANDARD
TZOFFSETFROM:-0700
TZOFFSETTO:-0700
TZNAME:MST
DTSTART:20220101T000000
END:STANDARD
END:VTIMEZONE
BEGIN:VEVENT
DTSTART;TZID=America/Phoenix:20230902T110000
DTEND;TZID=America/Phoenix:20230902T120000
DTSTAMP:20260420T140355
CREATED:20230809T181825Z
LAST-MODIFIED:20230809T181825Z
UID:3056-1693652400-1693656000@mamafoxbooks.com
SUMMARY:Barnes and Noble Storytime & Book Signing
DESCRIPTION:Join Phoebe Fox for a Storytime with her children’s books and puppets! She will be reading Up Up Up\, Starry’s Haircut\, and Julian Blooms! A book singing will follow.
URL:https://mamafoxbooks.com/event/barnes-and-noble-storytime-book-signing/
LOCATION:Barnes & Noble at Chandler Fashion Center\, 3111 W Chandler Blvd #2054\, Chandler\, AZ\, 85226
END:VEVENT
END:VCALENDAR