BEGIN:VCALENDAR
VERSION:2.0
PRODID:-//Mamafox Books - ECPv6.15.17.1//NONSGML v1.0//EN
CALSCALE:GREGORIAN
METHOD:PUBLISH
X-WR-CALNAME:Mamafox Books
X-ORIGINAL-URL:https://mamafoxbooks.com
X-WR-CALDESC:Events for Mamafox Books
REFRESH-INTERVAL;VALUE=DURATION:PT1H
X-Robots-Tag:noindex
X-PUBLISHED-TTL:PT1H
BEGIN:VTIMEZONE
TZID:America/Phoenix
BEGIN:STANDARD
TZOFFSETFROM:-0700
TZOFFSETTO:-0700
TZNAME:MST
DTSTART:20230101T000000
END:STANDARD
END:VTIMEZONE
BEGIN:VEVENT
DTSTART;TZID=America/Phoenix:20240305T100000
DTEND;TZID=America/Phoenix:20240305T120000
DTSTAMP:20260420T043042
CREATED:20240222T043117Z
LAST-MODIFIED:20240222T043117Z
UID:3333-1709632800-1709640000@mamafoxbooks.com
SUMMARY:Read Across America Pj Party
DESCRIPTION:Let’s celebrate Read Across America week! Wear your pjs and bring a flashlight for a Pajama Party at Baby Bear! Princess Belle will be there\, along with authors Phoebe Fox\, Marsha Jackson\, and Lorraine Hawley!
URL:https://mamafoxbooks.com/event/read-across-america-pj-party/
LOCATION:Baby Bear Indoor Play Area\, 1810 S Power Rd STE 103\, Mesa\, AZ\, Mesa\, Arizona\, 85206\, United States
END:VEVENT
END:VCALENDAR