BEGIN:VCALENDAR
VERSION:2.0
PRODID:-//Mamafox Books - ECPv6.15.17.1//NONSGML v1.0//EN
CALSCALE:GREGORIAN
METHOD:PUBLISH
X-WR-CALNAME:Mamafox Books
X-ORIGINAL-URL:https://mamafoxbooks.com
X-WR-CALDESC:Events for Mamafox Books
REFRESH-INTERVAL;VALUE=DURATION:PT1H
X-Robots-Tag:noindex
X-PUBLISHED-TTL:PT1H
BEGIN:VTIMEZONE
TZID:UTC
BEGIN:STANDARD
TZOFFSETFROM:+0000
TZOFFSETTO:+0000
TZNAME:UTC
DTSTART:20140101T000000
END:STANDARD
END:VTIMEZONE
BEGIN:VEVENT
DTSTART;TZID=UTC:20151112T123000
DTEND;TZID=UTC:20151112T133000
DTSTAMP:20260420T195235
CREATED:20151117T101659Z
LAST-MODIFIED:20151117T101659Z
UID:405-1447331400-1447335000@mamafoxbooks.com
SUMMARY:Visit to Kino School in Tucson\, Arizona
DESCRIPTION:
URL:https://mamafoxbooks.com/event/visit-to-kino-school-in-tucson-arizona/
END:VEVENT
BEGIN:VEVENT
DTSTART;TZID=UTC:20151112T093000
DTEND;TZID=UTC:20151112T103000
DTSTAMP:20260420T195235
CREATED:20151117T101551Z
LAST-MODIFIED:20151117T101551Z
UID:404-1447320600-1447324200@mamafoxbooks.com
SUMMARY:Visit to the IDEA School in Tucson\, Arizona
DESCRIPTION:
URL:https://mamafoxbooks.com/event/visit-to-the-idea-school-in-tucson-arizona/
END:VEVENT
BEGIN:VEVENT
DTSTART;VALUE=DATE:20151023
DTEND;VALUE=DATE:20151024
DTSTAMP:20260420T195235
CREATED:20151122T080043Z
LAST-MODIFIED:20151117T101350Z
UID:384-1445558400-1445644799@mamafoxbooks.com
SUMMARY:Story Time & Book Signing at Porter Barn Wood
DESCRIPTION:November 2015
URL:https://mamafoxbooks.com/event/book-signing-and-story-time/
END:VEVENT
END:VCALENDAR