BEGIN:VCALENDAR
VERSION:2.0
PRODID:-//Mamafox Books - ECPv6.15.17.1//NONSGML v1.0//EN
CALSCALE:GREGORIAN
METHOD:PUBLISH
X-WR-CALNAME:Mamafox Books
X-ORIGINAL-URL:https://mamafoxbooks.com
X-WR-CALDESC:Events for Mamafox Books
REFRESH-INTERVAL;VALUE=DURATION:PT1H
X-Robots-Tag:noindex
X-PUBLISHED-TTL:PT1H
BEGIN:VTIMEZONE
TZID:UTC
BEGIN:STANDARD
TZOFFSETFROM:+0000
TZOFFSETTO:+0000
TZNAME:UTC
DTSTART:20170101T000000
END:STANDARD
END:VTIMEZONE
BEGIN:VEVENT
DTSTART;VALUE=DATE:20180202
DTEND;VALUE=DATE:20180203
DTSTAMP:20260424T205927
CREATED:20180117T222032Z
LAST-MODIFIED:20180117T222032Z
UID:1222-1517529600-1517615999@mamafoxbooks.com
SUMMARY:SCBWI Conference New York
DESCRIPTION:
URL:https://mamafoxbooks.com/event/scbwi-conference-new-york/
LOCATION:Grand Hyatt Hotel\, NY
END:VEVENT
BEGIN:VEVENT
DTSTART;TZID=UTC:20180210T090000
DTEND;TZID=UTC:20180210T140000
DTSTAMP:20260424T205927
CREATED:20180117T222736Z
LAST-MODIFIED:20180118T080434Z
UID:1226-1518253200-1518271200@mamafoxbooks.com
SUMMARY:"Touch a Truck" Benefitting Children with Spina Bifida
DESCRIPTION:
URL:https://mamafoxbooks.com/event/touch-a-truck/
LOCATION:North Phoenix Baptist Church\, 5757 N. Central Ave.\, Phoenix\, AZ\, 85012
END:VEVENT
BEGIN:VEVENT
DTSTART;TZID=UTC:20180227T090000
DTEND;TZID=UTC:20180227T120000
DTSTAMP:20260424T205927
CREATED:20180117T223010Z
LAST-MODIFIED:20180117T223010Z
UID:1232-1519722000-1519732800@mamafoxbooks.com
SUMMARY:Riverview School Visit
DESCRIPTION:
URL:https://mamafoxbooks.com/event/riverview-school-visit/
LOCATION:AZ
END:VEVENT
END:VCALENDAR