BEGIN:VCALENDAR
VERSION:2.0
PRODID:-//Mamafox Books - ECPv6.15.17.1//NONSGML v1.0//EN
CALSCALE:GREGORIAN
METHOD:PUBLISH
X-WR-CALNAME:Mamafox Books
X-ORIGINAL-URL:https://mamafoxbooks.com
X-WR-CALDESC:Events for Mamafox Books
REFRESH-INTERVAL;VALUE=DURATION:PT1H
X-Robots-Tag:noindex
X-PUBLISHED-TTL:PT1H
BEGIN:VTIMEZONE
TZID:UTC
BEGIN:STANDARD
TZOFFSETFROM:+0000
TZOFFSETTO:+0000
TZNAME:UTC
DTSTART:20170101T000000
END:STANDARD
END:VTIMEZONE
BEGIN:VEVENT
DTSTART;TZID=UTC:20180517T113000
DTEND;TZID=UTC:20180517T123000
DTSTAMP:20260424T162452
CREATED:20180419T091406Z
LAST-MODIFIED:20180515T235052Z
UID:1480-1526556600-1526560200@mamafoxbooks.com
SUMMARY:Modern Milk (Gilbert) Story Time & Book Signing
DESCRIPTION:
URL:https://mamafoxbooks.com/event/story-time-book-signing-at-modern-milk/
LOCATION:Modern Milk (Gilbert Location)\, 3244 E Guadalupe Rd. Ste. A106\, Gilbert\, AZ\, 85234
END:VEVENT
BEGIN:VEVENT
DTSTART;TZID=UTC:20180518T110000
DTEND;TZID=UTC:20180518T120000
DTSTAMP:20260424T162452
CREATED:20180515T234109Z
LAST-MODIFIED:20180515T234109Z
UID:1629-1526641200-1526644800@mamafoxbooks.com
SUMMARY:Modern Milk (Scottsdale) Story Time & Book Signing
DESCRIPTION:
URL:https://mamafoxbooks.com/event/modern-milk-scottsdale-story-time-book-signing/
LOCATION:Modern Milk (Gilbert Location)\, 3244 E Guadalupe Rd. Ste. A106\, Gilbert\, AZ\, 85234\, United States
END:VEVENT
END:VCALENDAR