BEGIN:VCALENDAR
VERSION:2.0
PRODID:-//Mamafox Books - ECPv6.15.17.1//NONSGML v1.0//EN
CALSCALE:GREGORIAN
METHOD:PUBLISH
X-ORIGINAL-URL:https://mamafoxbooks.com
X-WR-CALDESC:Events for Mamafox Books
REFRESH-INTERVAL;VALUE=DURATION:PT1H
X-Robots-Tag:noindex
X-PUBLISHED-TTL:PT1H
BEGIN:VTIMEZONE
TZID:America/Phoenix
BEGIN:STANDARD
TZOFFSETFROM:-0700
TZOFFSETTO:-0700
TZNAME:MST
DTSTART:20180101T000000
END:STANDARD
END:VTIMEZONE
BEGIN:VEVENT
DTSTART;VALUE=DATE:20190706
DTEND;VALUE=DATE:20190707
DTSTAMP:20260423T181655
CREATED:20190618T121716Z
LAST-MODIFIED:20190618T131616Z
UID:1756-1562371200-1562457599@mamafoxbooks.com
SUMMARY:"Storytime Saturdays" on YouTube ~ New Episode
DESCRIPTION:Discover a new story with Author Phoebe Fox every Saturday on the Mamafox Books’ Youtube Channel! Don’t forget to subscribe\, and please leave comments and requests for your favorite stories!
URL:https://mamafoxbooks.com/event/storytime-saturday-on-youtube/
LOCATION:AZ
END:VEVENT
BEGIN:VEVENT
DTSTART;VALUE=DATE:20190713
DTEND;VALUE=DATE:20190714
DTSTAMP:20260423T181655
CREATED:20190618T123710Z
LAST-MODIFIED:20190618T131544Z
UID:1773-1562976000-1563062399@mamafoxbooks.com
SUMMARY:"Storytime Saturdays" on YouTube ~ New Episode
DESCRIPTION:Discover a new story with Author Phoebe Fox every Saturday on the Mamafox Books’ Youtube Channel! Don’t forget to subscribe\, and please leave comments and requests for your favorite stories!
URL:https://mamafoxbooks.com/event/mamafox-books-storytime-saturday-on-youtube-2/
LOCATION:AZ
END:VEVENT
BEGIN:VEVENT
DTSTART;TZID=America/Phoenix:20190720T120000
DTEND;TZID=America/Phoenix:20190720T130000
DTSTAMP:20260423T181655
CREATED:20190618T131231Z
LAST-MODIFIED:20190618T131231Z
UID:1793-1563624000-1563627600@mamafoxbooks.com
SUMMARY:Payson Book Festival "Storytime with Phoebe Fox"
DESCRIPTION:The Payson Book Festival will be held at the Mazatzal Hotel and Casino Ballroom in beautiful Payson\, AZ. The festival runs 9 am- 3:30 pm. Join Phoebe Fox at noon for Storytime! There will be lots of fun for the whole family!
URL:https://mamafoxbooks.com/event/payson-book-festival-storytime-with-phoebe-fox/
LOCATION:Payson Book Festival\, Mazatzal Hotel & Casino Ballroom\, Payson\, AZ\, United States
END:VEVENT
BEGIN:VEVENT
DTSTART;VALUE=DATE:20190721
DTEND;VALUE=DATE:20190722
DTSTAMP:20260423T181655
CREATED:20190914T204548Z
LAST-MODIFIED:20190914T204548Z
UID:1873-1563667200-1563753599@mamafoxbooks.com
SUMMARY:"Storytime Saturdays" on YouTube ~ New Episode
DESCRIPTION:Discover a new story with Author Phoebe Fox every Saturday on the Mamafox Books’ Youtube Channel! Don’t forget to subscribe\, and please leave comments and requests for your favorite stories!
URL:https://mamafoxbooks.com/event/storytime-saturdays-on-youtube-new-episode-3/
LOCATION:AZ
END:VEVENT
BEGIN:VEVENT
DTSTART;VALUE=DATE:20190727
DTEND;VALUE=DATE:20190728
DTSTAMP:20260423T181655
CREATED:20190914T204636Z
LAST-MODIFIED:20190914T204636Z
UID:1875-1564185600-1564271999@mamafoxbooks.com
SUMMARY:"Storytime Saturdays" on YouTube ~ New Episode
DESCRIPTION:Discover a new story with Author Phoebe Fox every Saturday on the Mamafox Books’ Youtube Channel! Don’t forget to subscribe\, and please leave comments and requests for your favorite stories!
URL:https://mamafoxbooks.com/event/storytime-saturdays-on-youtube-new-episode-4/
LOCATION:AZ
END:VEVENT
END:VCALENDAR