BEGIN:VCALENDAR
VERSION:2.0
PRODID:-//Mamafox Books - ECPv6.15.17.1//NONSGML v1.0//EN
CALSCALE:GREGORIAN
METHOD:PUBLISH
X-WR-CALNAME:Mamafox Books
X-ORIGINAL-URL:https://mamafoxbooks.com
X-WR-CALDESC:Events for Mamafox Books
REFRESH-INTERVAL;VALUE=DURATION:PT1H
X-Robots-Tag:noindex
X-PUBLISHED-TTL:PT1H
BEGIN:VTIMEZONE
TZID:America/Phoenix
BEGIN:STANDARD
TZOFFSETFROM:-0700
TZOFFSETTO:-0700
TZNAME:MST
DTSTART:20180101T000000
END:STANDARD
END:VTIMEZONE
BEGIN:VEVENT
DTSTART;TZID=America/Phoenix:20191102T100000
DTEND;TZID=America/Phoenix:20191102T150000
DTSTAMP:20260423T120629
CREATED:20190916T163750Z
LAST-MODIFIED:20190916T163750Z
UID:1933-1572688800-1572706800@mamafoxbooks.com
SUMMARY:Tempe Book Festival
DESCRIPTION:The Tempe Book Festival is an annual event intended to celebrate reading\, writing and a love for books. The festival brings together local authors\, publishers\, booksellers and more.
URL:https://mamafoxbooks.com/event/tempe-book-festival/
LOCATION:AZ
END:VEVENT
BEGIN:VEVENT
DTSTART;TZID=America/Phoenix:20191105T123000
DTEND;TZID=America/Phoenix:20191105T133000
DTSTAMP:20260423T120629
CREATED:20190916T163832Z
LAST-MODIFIED:20190916T163832Z
UID:1935-1572957000-1572960600@mamafoxbooks.com
SUMMARY:Madison Simis 4th Grade Visit
DESCRIPTION:
URL:https://mamafoxbooks.com/event/madison-simis-4th-grade-visit-3/
LOCATION:AZ
END:VEVENT
BEGIN:VEVENT
DTSTART;TZID=America/Phoenix:20191109T090000
DTEND;TZID=America/Phoenix:20191109T170000
DTSTAMP:20260423T120629
CREATED:20190916T164318Z
LAST-MODIFIED:20190916T164318Z
UID:1941-1573290000-1573318800@mamafoxbooks.com
SUMMARY:Briar Patch Market Place Arts and Crafts Festival
DESCRIPTION:
URL:https://mamafoxbooks.com/event/briar-patch-market-place-arts-and-crafts-festival-2/
LOCATION:Greenway High School
END:VEVENT
BEGIN:VEVENT
DTSTART;TZID=America/Phoenix:20191110T090000
DTEND;TZID=America/Phoenix:20191110T160000
DTSTAMP:20260423T120629
CREATED:20190916T164050Z
LAST-MODIFIED:20190916T164225Z
UID:1937-1573376400-1573401600@mamafoxbooks.com
SUMMARY:Briar Patch Market Place Arts and Crafts Festival
DESCRIPTION:
URL:https://mamafoxbooks.com/event/briar-patch-market-place-arts-and-crafts-festival/
LOCATION:Greenway High School
END:VEVENT
BEGIN:VEVENT
DTSTART;TZID=America/Phoenix:20191114T110000
DTEND;TZID=America/Phoenix:20191114T160000
DTSTAMP:20260423T120629
CREATED:20190916T164550Z
LAST-MODIFIED:20190916T182236Z
UID:1943-1573729200-1573747200@mamafoxbooks.com
SUMMARY:Fountain Hills Thursday Farmers Market
DESCRIPTION:
URL:https://mamafoxbooks.com/event/fountain-hills-thursday-farmers-market/
LOCATION:AZ
END:VEVENT
BEGIN:VEVENT
DTSTART;TZID=America/Phoenix:20191118T090000
DTEND;TZID=America/Phoenix:20191118T110000
DTSTAMP:20260423T120629
CREATED:20190925T192604Z
LAST-MODIFIED:20190925T192604Z
UID:2040-1574067600-1574074800@mamafoxbooks.com
SUMMARY:School Visit to Broadmor Elementary
DESCRIPTION:
URL:https://mamafoxbooks.com/event/school-visit-to-broadmor-elementary/
LOCATION:AZ
END:VEVENT
BEGIN:VEVENT
DTSTART;TZID=America/Phoenix:20191122T090000
DTEND;TZID=America/Phoenix:20191122T140000
DTSTAMP:20260423T120629
CREATED:20190916T164635Z
LAST-MODIFIED:20190916T164934Z
UID:1945-1574413200-1574431200@mamafoxbooks.com
SUMMARY:Madison Simis School Visit
DESCRIPTION:
URL:https://mamafoxbooks.com/event/madison-simis-school-visit/
LOCATION:AZ
END:VEVENT
END:VCALENDAR