BEGIN:VCALENDAR
VERSION:2.0
PRODID:-//Mamafox Books - ECPv6.15.17.1//NONSGML v1.0//EN
CALSCALE:GREGORIAN
METHOD:PUBLISH
X-ORIGINAL-URL:https://mamafoxbooks.com
X-WR-CALDESC:Events for Mamafox Books
REFRESH-INTERVAL;VALUE=DURATION:PT1H
X-Robots-Tag:noindex
X-PUBLISHED-TTL:PT1H
BEGIN:VTIMEZONE
TZID:America/Phoenix
BEGIN:STANDARD
TZOFFSETFROM:-0700
TZOFFSETTO:-0700
TZNAME:MST
DTSTART:20190101T000000
END:STANDARD
END:VTIMEZONE
BEGIN:VEVENT
DTSTART;TZID=America/Phoenix:20200314T093000
DTEND;TZID=America/Phoenix:20200314T173000
DTSTAMP:20260423T054215
CREATED:20190916T161809Z
LAST-MODIFIED:20190916T161809Z
UID:1915-1584178200-1584207000@mamafoxbooks.com
SUMMARY:Tucson Festival of Books
DESCRIPTION:The Tucson Festival of Books is a two-day festival of book panels and events where booklovers of all ages can come together\, meet their favorite authors\, and discover new bookish companies and organizations on the University of Arizona Mall.
URL:https://mamafoxbooks.com/event/tucson-festival-of-books-2/
LOCATION:AZ
END:VEVENT
BEGIN:VEVENT
DTSTART;TZID=America/Phoenix:20200315T093000
DTEND;TZID=America/Phoenix:20200315T173000
DTSTAMP:20260423T054215
CREATED:20190916T161928Z
LAST-MODIFIED:20190916T161928Z
UID:1917-1584264600-1584293400@mamafoxbooks.com
SUMMARY:Tucson Festival of Books
DESCRIPTION:The Tucson Festival of Books is a two-day festival of book panels and events where booklovers of all ages can come together\, meet their favorite authors\, and discover new bookish companies and organizations on the University of Arizona Mall.
URL:https://mamafoxbooks.com/event/tucson-festival-of-books-3/
LOCATION:AZ
END:VEVENT
BEGIN:VEVENT
DTSTART;TZID=America/Phoenix:20200326T080000
DTEND;TZID=America/Phoenix:20200326T170000
DTSTAMP:20260423T054215
CREATED:20190916T164900Z
LAST-MODIFIED:20190916T164900Z
UID:1949-1585209600-1585242000@mamafoxbooks.com
SUMMARY:Christ Church School Visit
DESCRIPTION:
URL:https://mamafoxbooks.com/event/christ-church-school-visit-2/
LOCATION:AZ
END:VEVENT
END:VCALENDAR