BEGIN:VCALENDAR
VERSION:2.0
PRODID:-//Mamafox Books - ECPv6.15.17.1//NONSGML v1.0//EN
CALSCALE:GREGORIAN
METHOD:PUBLISH
X-WR-CALNAME:Mamafox Books
X-ORIGINAL-URL:https://mamafoxbooks.com
X-WR-CALDESC:Events for Mamafox Books
REFRESH-INTERVAL;VALUE=DURATION:PT1H
X-Robots-Tag:noindex
X-PUBLISHED-TTL:PT1H
BEGIN:VTIMEZONE
TZID:America/Phoenix
BEGIN:STANDARD
TZOFFSETFROM:-0700
TZOFFSETTO:-0700
TZNAME:MST
DTSTART:20200101T000000
END:STANDARD
END:VTIMEZONE
BEGIN:VEVENT
DTSTART;TZID=America/Phoenix:20211203T100000
DTEND;TZID=America/Phoenix:20211203T153000
DTSTAMP:20260421T212947
CREATED:20210812T213047Z
LAST-MODIFIED:20210812T213047Z
UID:2637-1638525600-1638545400@mamafoxbooks.com
SUMMARY:Glendale Sparkle
DESCRIPTION:
URL:https://mamafoxbooks.com/event/glendale-sparkle-3/
LOCATION:AZ
END:VEVENT
BEGIN:VEVENT
DTSTART;TZID=America/Phoenix:20211205T143000
DTEND;TZID=America/Phoenix:20211205T180000
DTSTAMP:20260421T212947
CREATED:20210812T212829Z
LAST-MODIFIED:20210812T212829Z
UID:2633-1638714600-1638727200@mamafoxbooks.com
SUMMARY:Glendale Sparkle
DESCRIPTION:
URL:https://mamafoxbooks.com/event/glendale-sparkle/
LOCATION:AZ
END:VEVENT
BEGIN:VEVENT
DTSTART;TZID=America/Phoenix:20211208T100000
DTEND;TZID=America/Phoenix:20211208T150000
DTSTAMP:20260421T212947
CREATED:20210812T212942Z
LAST-MODIFIED:20210812T212942Z
UID:2635-1638957600-1638975600@mamafoxbooks.com
SUMMARY:Glendale Sparkle
DESCRIPTION:
URL:https://mamafoxbooks.com/event/glendale-sparkle-2/
LOCATION:AZ
END:VEVENT
END:VCALENDAR