BEGIN:VCALENDAR
VERSION:2.0
PRODID:-//Mamafox Books - ECPv6.15.17.1//NONSGML v1.0//EN
CALSCALE:GREGORIAN
METHOD:PUBLISH
X-ORIGINAL-URL:https://mamafoxbooks.com
X-WR-CALDESC:Events for Mamafox Books
REFRESH-INTERVAL;VALUE=DURATION:PT1H
X-Robots-Tag:noindex
X-PUBLISHED-TTL:PT1H
BEGIN:VTIMEZONE
TZID:America/Phoenix
BEGIN:STANDARD
TZOFFSETFROM:-0700
TZOFFSETTO:-0700
TZNAME:MST
DTSTART:20210101T000000
END:STANDARD
END:VTIMEZONE
BEGIN:VEVENT
DTSTART;TZID=America/Phoenix:20220312T090000
DTEND;TZID=America/Phoenix:20220313T170000
DTSTAMP:20260421T165518
CREATED:20220116T000658Z
LAST-MODIFIED:20220305T183726Z
UID:2765-1647075600-1647190800@mamafoxbooks.com
SUMMARY:Tucson Festival of Books
DESCRIPTION:Come see Phoebe Fox in the children’s area where she will be signing books with other Arizona children’s authors! She will be presenting on the Children’s Storytelling Stage at 3:00 on Sunday\, March 13!
URL:https://mamafoxbooks.com/event/tucson-festival-of-books-4/
LOCATION:University of Arizona\, United States
END:VEVENT
END:VCALENDAR