BEGIN:VCALENDAR
VERSION:2.0
PRODID:-//Mamafox Books - ECPv6.15.17.1//NONSGML v1.0//EN
CALSCALE:GREGORIAN
METHOD:PUBLISH
X-ORIGINAL-URL:https://mamafoxbooks.com
X-WR-CALDESC:Events for Mamafox Books
REFRESH-INTERVAL;VALUE=DURATION:PT1H
X-Robots-Tag:noindex
X-PUBLISHED-TTL:PT1H
BEGIN:VTIMEZONE
TZID:America/Phoenix
BEGIN:STANDARD
TZOFFSETFROM:-0700
TZOFFSETTO:-0700
TZNAME:MST
DTSTART:20220101T000000
END:STANDARD
END:VTIMEZONE
BEGIN:VEVENT
DTSTART;TZID=America/Phoenix:20231021T100000
DTEND;TZID=America/Phoenix:20231021T160000
DTSTAMP:20260420T105430
CREATED:20230321T151948Z
LAST-MODIFIED:20230321T152112Z
UID:2959-1697882400-1697904000@mamafoxbooks.com
SUMMARY:Desert Foothills Book Festival
DESCRIPTION:“Reading is Fun! It’s even better when you come meet the Award-Winning Local Authors who write the books you love to read! Have a blast talking all things book and don’t forget to get a signed copy of your favorite! It’s a great way to support local authors and our community. We look forward to seeing you!”
URL:https://mamafoxbooks.com/event/2959/
LOCATION:34250 N 60th St.\, 34250 N 60th St.\, Scottsdale\, AZ\, 85266\, United States
END:VEVENT
END:VCALENDAR