BEGIN:VCALENDAR
VERSION:2.0
PRODID:-//Mamafox Books - ECPv6.15.17.1//NONSGML v1.0//EN
CALSCALE:GREGORIAN
METHOD:PUBLISH
X-WR-CALNAME:Mamafox Books
X-ORIGINAL-URL:https://mamafoxbooks.com
X-WR-CALDESC:Events for Mamafox Books
REFRESH-INTERVAL;VALUE=DURATION:PT1H
X-Robots-Tag:noindex
X-PUBLISHED-TTL:PT1H
BEGIN:VTIMEZONE
TZID:America/Phoenix
BEGIN:STANDARD
TZOFFSETFROM:-0700
TZOFFSETTO:-0700
TZNAME:MST
DTSTART:20220101T000000
END:STANDARD
END:VTIMEZONE
BEGIN:VEVENT
DTSTART;TZID=America/Phoenix:20231128T110000
DTEND;TZID=America/Phoenix:20231128T120000
DTSTAMP:20260420T091834
CREATED:20230924T181048Z
LAST-MODIFIED:20230924T181249Z
UID:3093-1701169200-1701172800@mamafoxbooks.com
SUMMARY:Storytime at the Children's Museum of Phoenix
DESCRIPTION:Join us for puppets\, songs\, and stories! Phoebe Fox will be reading her new book\, Julian Blooms!
URL:https://mamafoxbooks.com/event/storytime-at-the-childrens-museum-of-phoenix/
LOCATION:AZ
END:VEVENT
END:VCALENDAR