BEGIN:VCALENDAR
VERSION:2.0
PRODID:-//Mamafox Books - ECPv6.15.17.1//NONSGML v1.0//EN
CALSCALE:GREGORIAN
METHOD:PUBLISH
X-ORIGINAL-URL:https://mamafoxbooks.com
X-WR-CALDESC:Events for Mamafox Books
REFRESH-INTERVAL;VALUE=DURATION:PT1H
X-Robots-Tag:noindex
X-PUBLISHED-TTL:PT1H
BEGIN:VTIMEZONE
TZID:America/Phoenix
BEGIN:STANDARD
TZOFFSETFROM:-0700
TZOFFSETTO:-0700
TZNAME:MST
DTSTART:20230101T000000
END:STANDARD
END:VTIMEZONE
BEGIN:VEVENT
DTSTART;TZID=America/Phoenix:20240203T090000
DTEND;TZID=America/Phoenix:20240203T150000
DTSTAMP:20260420T043243
CREATED:20240113T154537Z
LAST-MODIFIED:20240113T154537Z
UID:3178-1706950800-1706972400@mamafoxbooks.com
SUMMARY:Touch a Truck with the Patsy Reeve Foundation
DESCRIPTION:Come see Phoebe Fox and the other Loving Literacy Authors at their book signing booth!\n \nThe Patsy Reeve Foundation will be hosting the “Touch a Truck” fundraiser.  The fundraising event is designed to assist children affected by Spina Bifida by granting them the opportunity to attend a specialized camp called Camp Patrick. Children and families will have the opportunity to explore and climb on fire trucks\, helicopters\, tractors\, dump trucks\, and Military vehicles! There will be bouncy houses\, food\, face painting\, and booths from local businesses. \n 
URL:https://mamafoxbooks.com/event/touch-a-truck-with-the-patsy-reeve-foundation/
LOCATION:AZ
END:VEVENT
BEGIN:VEVENT
DTSTART;TZID=America/Phoenix:20240224T120000
DTEND;TZID=America/Phoenix:20240224T140000
DTSTAMP:20260420T043243
CREATED:20240111T223925Z
LAST-MODIFIED:20240111T223925Z
UID:3174-1708776000-1708783200@mamafoxbooks.com
SUMMARY:Storytime & Book Signing at Barnes & Noble
DESCRIPTION:Join Children’s Author Phoebe Fox for an animal-themed storytime for young children (ages 1-5)! She will be reading her books\, On the Verde River and Up Up Up. Puppets\, games\, and songs will help children engage in this unique storytime experience with the author! A book signing will take place following storytime. Don’t miss it!\n \n\n \n 
URL:https://mamafoxbooks.com/event/storytime-book-signing-at-barnes-noble/
LOCATION:Barnes & Noble at Chandler Fashion Center\, 3111 W Chandler Blvd #2054\, Chandler\, AZ\, 85226
END:VEVENT
END:VCALENDAR