BEGIN:VCALENDAR
VERSION:2.0
PRODID:-//Mamafox Books - ECPv6.15.17.1//NONSGML v1.0//EN
CALSCALE:GREGORIAN
METHOD:PUBLISH
X-ORIGINAL-URL:https://mamafoxbooks.com
X-WR-CALDESC:Events for Mamafox Books
REFRESH-INTERVAL;VALUE=DURATION:PT1H
X-Robots-Tag:noindex
X-PUBLISHED-TTL:PT1H
BEGIN:VTIMEZONE
TZID:America/Phoenix
BEGIN:STANDARD
TZOFFSETFROM:-0700
TZOFFSETTO:-0700
TZNAME:MST
DTSTART:20230101T000000
END:STANDARD
END:VTIMEZONE
BEGIN:VEVENT
DTSTART;TZID=America/Phoenix:20240305T100000
DTEND;TZID=America/Phoenix:20240305T120000
DTSTAMP:20260420T030047
CREATED:20240222T043117Z
LAST-MODIFIED:20240222T043117Z
UID:3333-1709632800-1709640000@mamafoxbooks.com
SUMMARY:Read Across America Pj Party
DESCRIPTION:Let’s celebrate Read Across America week! Wear your pjs and bring a flashlight for a Pajama Party at Baby Bear! Princess Belle will be there\, along with authors Phoebe Fox\, Marsha Jackson\, and Lorraine Hawley!
URL:https://mamafoxbooks.com/event/read-across-america-pj-party/
LOCATION:Baby Bear Indoor Play Area\, 1810 S Power Rd STE 103\, Mesa\, AZ\, Mesa\, Arizona\, 85206\, United States
END:VEVENT
BEGIN:VEVENT
DTSTART;TZID=America/Phoenix:20240309T090000
DTEND;TZID=America/Phoenix:20240310T160000
DTSTAMP:20260420T030047
CREATED:20240107T222236Z
LAST-MODIFIED:20240111T224222Z
UID:3138-1709974800-1710086400@mamafoxbooks.com
SUMMARY:Tucson Festival of Books
DESCRIPTION:The Tucson Festival of Books\, one of the nation’s largest book festivals\, is a free annual book festival held in Tucson\, AZ.“Literacy lovers of all ages celebrate reading\, discovery\, and creativity at the University of Arizona.” Phoebe Fox will be at the Loving Literacy Authors’ booth in the Children’s Village\, except on Saturday\, from 10:00 am to 1:00 pm\, when she will be a featured author at the Indie Author Pavilion!
URL:https://mamafoxbooks.com/event/tucson-festival-of-books-6/
LOCATION:University of Arizona\, United States
END:VEVENT
BEGIN:VEVENT
DTSTART;TZID=America/Phoenix:20240314T100000
DTEND;TZID=America/Phoenix:20240314T233000
DTSTAMP:20260420T030047
CREATED:20240222T043622Z
LAST-MODIFIED:20240222T043622Z
UID:3336-1710410400-1710459000@mamafoxbooks.com
SUMMARY:Leo & Luca Storytime and Craft
DESCRIPTION:Join Children’s Author Phoebe Fox for a reading of her book Julian Blooms\, meet her peacock puppet\, Julian\, and take home an adorable peacock craft!
URL:https://mamafoxbooks.com/event/leo-luca-storytime-and-craft/
LOCATION:Leo and Luca Indoor Play Area\, 6102 N 16th St Suite 13\, Phoenix\, AZ\, 85016\, United States
END:VEVENT
END:VCALENDAR