BEGIN:VCALENDAR
VERSION:2.0
PRODID:-//Mamafox Books - ECPv6.15.17.1//NONSGML v1.0//EN
CALSCALE:GREGORIAN
METHOD:PUBLISH
X-ORIGINAL-URL:https://mamafoxbooks.com
X-WR-CALDESC:Events for Mamafox Books
REFRESH-INTERVAL;VALUE=DURATION:PT1H
X-Robots-Tag:noindex
X-PUBLISHED-TTL:PT1H
BEGIN:VTIMEZONE
TZID:America/Phoenix
BEGIN:STANDARD
TZOFFSETFROM:-0700
TZOFFSETTO:-0700
TZNAME:MST
DTSTART:20230101T000000
END:STANDARD
END:VTIMEZONE
BEGIN:VEVENT
DTSTART;TZID=America/Phoenix:20240718T110000
DTEND;TZID=America/Phoenix:20240718T120000
DTSTAMP:20260419T201420
CREATED:20240614T040008Z
LAST-MODIFIED:20240614T040318Z
UID:3418-1721300400-1721304000@mamafoxbooks.com
SUMMARY:Children's Book Event
DESCRIPTION:
URL:https://mamafoxbooks.com/event/childrens-book-event/
LOCATION:Isabelle Hunt Memorial Library\, 6124 Randall Pl\, Pine\, AZ\, 85544\, United States
END:VEVENT
END:VCALENDAR