BEGIN:VCALENDAR
VERSION:2.0
PRODID:-//Mamafox Books - ECPv6.15.17.1//NONSGML v1.0//EN
CALSCALE:GREGORIAN
METHOD:PUBLISH
X-WR-CALNAME:Mamafox Books
X-ORIGINAL-URL:https://mamafoxbooks.com
X-WR-CALDESC:Events for Mamafox Books
REFRESH-INTERVAL;VALUE=DURATION:PT1H
X-Robots-Tag:noindex
X-PUBLISHED-TTL:PT1H
BEGIN:VTIMEZONE
TZID:America/Phoenix
BEGIN:STANDARD
TZOFFSETFROM:-0700
TZOFFSETTO:-0700
TZNAME:MST
DTSTART:20230101T000000
END:STANDARD
END:VTIMEZONE
BEGIN:VEVENT
DTSTART;TZID=America/Phoenix:20241114T180000
DTEND;TZID=America/Phoenix:20241114T200000
DTSTAMP:20260419T131154
CREATED:20241028T151439Z
LAST-MODIFIED:20241028T151439Z
UID:3542-1731607200-1731614400@mamafoxbooks.com
SUMMARY:Gardners Book Service Educator Appreciation Event
DESCRIPTION:
URL:https://mamafoxbooks.com/event/gardners-book-service-educator-appreciation-event/
LOCATION:Gardners Book Service\, 2321 W Royal Palm Rd Suite F\, Phoenix\, AZ\, 85021\, United States
END:VEVENT
END:VCALENDAR